BEGIN:VCALENDAR
VERSION:2.0
PRODID:-//wp-events-plugin.com//7.2.3.1//EN
TZID:Europe/Amsterdam
X-WR-TIMEZONE:Europe/Amsterdam
BEGIN:VEVENT
UID:113@scheepspost.info
DTSTART;TZID=Europe/Amsterdam:20260308T130000
DTEND;TZID=Europe/Amsterdam:20260308T130000
DTSTAMP:20260225T153453Z
URL:https://scheepspost.info/agenda/lezing-varen-is-een-gekte-vreeswijk/
SUMMARY:Lezing "Varen is een Gekte" Vreeswijk (vol)
DESCRIPTION:Een nieuw leven beginnen op je zestigste. Dat deden Hendrik Bij
 nsdorp en zijn vrouw. Waar anderen voorzichtig aan hun pensioen denken\, m
 aakten zij een flinke carrière-switch. Zij kochten een spits en gingen er
 mee op vrachtvaart.
ATTACH;FMTTYPE=image/jpeg:https://scheepspost.info/wp-content/uploads/2026
 /01/Op-de-Boven-Seine-bij-Nogent.webp
CATEGORIES:Overig
LOCATION:Museumwerf Vreeswijk\, Wierselaan 113\, Nieuwegein\, Nederland
X-APPLE-STRUCTURED-LOCATION;VALUE=URI;X-ADDRESS=Wierselaan 113\, Nieuwegein
 \, Nederland;X-APPLE-RADIUS=100;X-TITLE=Museumwerf Vreeswijk:geo:0,0
END:VEVENT
BEGIN:VTIMEZONE
TZID:Europe/Amsterdam
X-LIC-LOCATION:Europe/Amsterdam
BEGIN:STANDARD
DTSTART:20251026T020000
TZOFFSETFROM:+0200
TZOFFSETTO:+0100
TZNAME:CET
END:STANDARD
END:VTIMEZONE
END:VCALENDAR