BEGIN:VCALENDAR
VERSION:2.0
PRODID:-//wp-events-plugin.com//7.2.3.1//EN
TZID:Europe/Amsterdam
X-WR-TIMEZONE:Europe/Amsterdam
BEGIN:VEVENT
UID:111@scheepspost.info
DTSTART;TZID=Europe/Amsterdam;VALUE=DATE:20260425
DTEND;TZID=Europe/Amsterdam;VALUE=DATE:20260426
DTSTAMP:20260420T094643Z
URL:https://scheepspost.info/agenda/mattenschippersrace-blokzijl-2026/
SUMMARY:Mattenschippersrace Blokzijl
DESCRIPTION:Elke laatste zaterdag van april wordt in de Kop van Overijssel 
 de Mattenschippersrace gehouden. Klassieke platbodems melden zich dan in B
 lokzijl aan de start voor een ‘kleintje Strontrace‘\, zoals de Mattens
 chippersrace ook wel wordt genoemd.
ATTACH;FMTTYPE=image/jpeg:https://scheepspost.info/wp-content/uploads/2024
 /01/19603_image_Mattenschippersrace_Logo_ZT.png
CATEGORIES:Wedstrijd
LOCATION:Haven Blokzeil\, Zeedijk 1\, Blokzijl\, Nederland
X-APPLE-STRUCTURED-LOCATION;VALUE=URI;X-ADDRESS=Zeedijk 1\, Blokzijl\, Nede
 rland;X-APPLE-RADIUS=100;X-TITLE=Haven Blokzeil:geo:0,0
END:VEVENT
BEGIN:VTIMEZONE
TZID:Europe/Amsterdam
X-LIC-LOCATION:Europe/Amsterdam
BEGIN:DAYLIGHT
DTSTART:20260329T030000
TZOFFSETFROM:+0100
TZOFFSETTO:+0200
TZNAME:CEST
END:DAYLIGHT
END:VTIMEZONE
END:VCALENDAR