BEGIN:VCALENDAR
VERSION:2.0
PRODID:-//wp-events-plugin.com//7.2.3.1//EN
TZID:Europe/Amsterdam
X-WR-TIMEZONE:Europe/Amsterdam
BEGIN:VEVENT
UID:112@scheepspost.info
DTSTART;TZID=Europe/Amsterdam:20260203T193000
DTEND;TZID=Europe/Amsterdam:20260203T213000
DTSTAMP:20260110T155322Z
URL:https://scheepspost.info/agenda/webinar-maritieme-digitale-archieven/
SUMMARY:Webinar maritieme digitale archieven
DESCRIPTION:Janneke Bos van de Landelijke Werkgroep Archeologie onder Water
  (LWAOW) geeft op dinsdagavond 3 februari een gratis webinar voor iedereen
  die geïnteresseerd is in maritieme archieven.
ATTACH;FMTTYPE=image/jpeg:https://scheepspost.info/wp-content/uploads/2026
 /01/Marishdata-voorbeeld.png
CATEGORIES:Overig
END:VEVENT
BEGIN:VTIMEZONE
TZID:Europe/Amsterdam
X-LIC-LOCATION:Europe/Amsterdam
BEGIN:STANDARD
DTSTART:20251026T020000
TZOFFSETFROM:+0200
TZOFFSETTO:+0100
TZNAME:CET
END:STANDARD
END:VTIMEZONE
END:VCALENDAR